Workbook
Name Namen: Namen!$A$1:$D$339

Sheet Ergebnisse
A1: Matrikelnummer | B1: BWL | C1: Mathematik | E1: Lösungsvorschlag zu 3.1
A2: 493003 | B2: 81 | C2: 70
A3: 820998 | B3: 92 | C3: 77 | E3: (i) Erste Spalte markieren + Strg-F (Mac: Cmd-F) und dann 880687 eingeben; alternativ über den Filter suchen
A4: 666887 | B4: 73 | C4: 58
A5: 422847 | B5: 56 | C5: 29 | E5: (ii) auf Registerkarte "Daten" klicken; erste drei Spalten markieren; in Menüband auf Filtern klicken; auf kleines Dreieck neben Matrikelnummer klicken und dann "aufsteigend sortieren" klicken
A6: 545840 | B6: 42 | C6: 28
A7: 186771 | B7: 82 | C7: 45 | E7: (iii) auf kleines Dreieck neben Mathematik klicken -> Zahlenfilter -> zwischen -> Zahlen eintragen
A8: 862410 | B8: 79 | C8: 54
A9: 761518 | B9: 59 | C9: 42 | E9: iv) auf kleines Dreieck neben Mathematik klicken -> Filter löschen
A10: 471181 | B10: 91 | C10: 68 | E10: bestes Ergebnis in Mathe | G10: =MAX(C2:C285) -> 99
A11: 799832 | B11: 42 | C11: 18
A12: 972714 | B12: 60 | C12: 22 | E12: (v) | F12: Häufigkeitstabelle: | I12: (vi)
A13: 819209 | B13: 96 | C13: 85 | F13: Klassen | G13: Klassen für Formel | H13: Häufigkeit BWL | I13: Häufigkeit Mathe
A14: 154478 | B14: 60 | C14: 48 | F14: 0 bis 49 | G14: 49 | H14: {=FREQUENCY(B$2:B$285,$G$13:$G$18)} -> 34 | I14: {=FREQUENCY(C$2:C$285,$G$13:$G$18)} -> 157
A15: 546464 | B15: 61 | C15: 32 | F15: 50 bis 61 | G15: 61 | H15: 48 | I15: 62
A16: 556472 | B16: 68 | C16: 56 | F16: 62 bis 73 | G16: 73 | H16: 64 | I16: 39
A17: 967387 | B17: 58 | C17: 39 | F17: 74 bis 85 | G17: 85 | H17: 86 | I17: 17
A18: 406408 | B18: 52 | C18: 26 | F18: 86 bis 100 | G18: 100 | H18: 51 | I18: 8
A19: 184625 | B19: 63 | C19: 36
A20: 567518 | B20: 67 | C20: 42 | F20: Achtung: Altes Excel: Bei der Eingabe der Häufigkeitsfunktion muss der gesamte Bereich markiert werden; die Häufgkeitsfunktion muss mit Strg + Shift + Enter abgeschickt werden. Excel 365: man muss die Formel nur in die erste Zelle eintippen und mit Enter abschicken
A21: 894185 | B21: 80 | C21: 70
A22: 468103 | B22: 98 | C22: 38 | E22: (vii)
A23: 428758 | B23: 73 | C23: 43
A24: 504398 | B24: 56 | C24: 35
A25: 682989 | B25: 91 | C25: 74
A26: 434958 | B26: 80 | C26: 68
A27: 641418 | B27: 76 | C27: 54
A28: 543700 | B28: 72 | C28: 43
A29: 858219 | B29: 90 | C29: 61
A30: 500073 | B30: 93 | C30: 31
A31: 106106 | B31: 82 | C31: 64
A32: 883115 | B32: 56 | C32: 40
A33: 262268 | B33: 76 | C33: 66
A34: 390288 | B34: 53 | C34: 18
... A37: 637481 | B37: 78 | C37: 52
A38: 542230 | B38: 59 | C38: 34 | E38: (viii) Erstmal prüfen, dazu: erste Spalte markieren; Start > Bedingte Formatierung > Regeln zum Hervorheben von Zellen > Doppelte Werte.
A39: 740799 | B39: 80 | C39: 61 | F39: Tatsächlich kommt der Datensatz zu Mat.nr. 670750 doppelt vor. Löschen über Daten > Duplkikate entfernen -> Markierung über die ersten drei Spalten, aber doppelte Siuchen nur in erster Spalte
A40: 889476 | B40: 81 | C40: 26
A41: 581640 | B41: 82 | C41: 57 | E41: (ix) Siehe unter Start -> bedingte Formatierung -> Regeln verwalten
A42: 859353 | B42: 89 | C42: 76
...

Sheet Namen
A1: Matrikelnummer | B1: Anrede | C1: Name | D1: Vorname
A2: 808626 | B2: Herr | C2: Aicher | D2: Adel
A3: 200171 | B3: Frau | C3: Robl | D3: Adelina
A4: 633166 | B4: Herr | C4: Solnier | D4: Adrian
A5: 381861 | B5: Frau | C5: Holzer | D5: Aileen
A6: 864179 | B6: Herr | C6: Beck | D6: Alex
A7: 864300 | B7: Herr | C7: Endler | D7: Alex
A8: 122047 | B8: Herr | C8: Sobczyk | D8: Alexander
A9: 355260 | B9: Herr | C9: Parzinger | D9: Alexander
A10: 584138 | B10: Frau | C10: Gehri | D10: Alexandra
A11: 894185 | B11: Herr | C11: Rehlemann | D11: Alexandra
A12: 871326 | B12: Frau | C12: Bacher | D12: Alketta
A13: 162673 | B13: Herr | C13: Dalmann | D13: Amadeus
... A339: 850181 | B339: Frau | C339: Schnepper | D339: Zhuyu

Sheet Notenliste
A1: Matrikelnummer | B1: Name | C1: Vorname | D1: Geschlecht | E1: Mathematik | F1: Mathenote | G1: BWL | H1: BWL-Note | J1: Lösungsvorschlag zu 3.2
A2: 559165 | B2: =VLOOKUP($A2,Namen!$A$2:$D$339,3,FALSE) -> Abstreiter | C2: =VLOOKUP($A2,Namen!$A$2:$D$339,4,FALSE) -> Christina | D2: =IF(VLOOKUP($A2,Namen!$A$2:$D$339,2,FALSE)="Frau","w","m") -> w | E2: =VLOOKUP($A2,Ergebnisse!$A$2:$C$285,3,FALSE) -> 46 | F2: =VLOOKUP(E2,$J$41:$L$45,3,TRUE) -> 5 | G2: =VLOOKUP($A2,Ergebnisse!$A$2:$C$285,2,FALSE) -> 62 | H2: =VLOOKUP(G2,$J$41:$L$45,3,TRUE) -> 3
A3: 499815 | B3: =VLOOKUP($A3,Namen!$A$2:$D$339,3,FALSE) -> Achziger | C3: =VLOOKUP($A3,Namen!$A$2:$D$339,4,FALSE) -> Jakob | D3: =IF(VLOOKUP($A3,Namen!$A$2:$D$339,2,FALSE)="Frau","w","m") -> m | E3: =VLOOKUP($A3,Ergebnisse!$A$2:$C$285,3,FALSE) -> 56 | F3: =VLOOKUP(E3,J$41:L$45,3,TRUE) -> 4 | G3: =VLOOKUP($A3,Ergebnisse!$A$2:$C$285,2,FALSE) -> 70 | H3: =VLOOKUP(G3,$J$41:$L$45,3,TRUE) -> 3 | J3: (i) siehe links
A4: 770288 | B4: =VLOOKUP($A4,Namen!$A$2:$D$339,3,FALSE) -> Agbegninou | C4: =VLOOKUP($A4,Namen!$A$2:$D$339,4,FALSE) -> Merita | D4: =IF(VLOOKUP($A4,Namen!$A$2:$D$339,2,FALSE)="Frau","w","m") -> w | E4: =VLOOKUP($A4,Ergebnisse!$A$2:$C$285,3,FALSE) -> 66 | F4: =VLOOKUP(E4,J$41:L$45,3,TRUE) -> 3 | G4: =VLOOKUP($A4,Ergebnisse!$A$2:$C$285,2,FALSE) -> 80 | H4: =VLOOKUP(G4,$J$41:$L$45,3,TRUE) -> 2
A5: 808626 | B5: =VLOOKUP($A5,Namen!$A$2:$D$339,3,FALSE) -> Aicher | C5: =VLOOKUP($A5,Namen!$A$2:$D$339,4,FALSE) -> Adel | D5: =IF(VLOOKUP($A5,Namen!$A$2:$D$339,2,FALSE)="Frau","w","m") -> m | E5: =VLOOKUP($A5,Ergebnisse!$A$2:$C$285,3,FALSE) -> 71 | F5: =VLOOKUP(E5,J$41:L$45,3,TRUE) -> 3 | G5: =VLOOKUP($A5,Ergebnisse!$A$2:$C$285,2,FALSE) -> 83 | H5: =VLOOKUP(G5,$J$41:$L$45,3,TRUE) -> 2 | J5: (ii) mit SVERWEIS; siehe Spalten B-E und G
A6: 258496 | B6: =VLOOKUP($A6,Namen!$A$2:$D$339,3,FALSE) -> Altmannshofer | C6: =VLOOKUP($A6,Namen!$A$2:$D$339,4,FALSE) -> Philipp | D6: =IF(VLOOKUP($A6,Namen!$A$2:$D$339,2,FALSE)="Frau","w","m") -> m | E6: =VLOOKUP($A6,Ergebnisse!$A$2:$C$285,3,FALSE) -> 42 | F6: =VLOOKUP(E6,J$41:L$45,3,TRUE) -> 5 | G6: =VLOOKUP($A6,Ergebnisse!$A$2:$C$285,2,FALSE) -> 70 | H6: =VLOOKUP(G6,$J$41:$L$45,3,TRUE) -> 3
A7: 493003 | B7: =VLOOKUP($A7,Namen!$A$2:$D$339,3,FALSE) -> Anderl | C7: =VLOOKUP($A7,Namen!$A$2:$D$339,4,FALSE) -> Vitus | D7: =IF(VLOOKUP($A7,Namen!$A$2:$D$339,2,FALSE)="Frau","w","m") -> m | E7: =VLOOKUP($A7,Ergebnisse!$A$2:$C$285,3,FALSE) -> 70 | F7: =VLOOKUP(E7,J$41:L$45,3,TRUE) -> 3 | G7: =VLOOKUP($A7,Ergebnisse!$A$2:$C$285,2,FALSE) -> 81 | H7: =VLOOKUP(G7,$J$41:$L$45,3,TRUE) -> 2 | J7: (iii)
A8: 504398 | B8: =VLOOKUP($A8,Namen!$A$2:$D$339,3,FALSE) -> Anmi | C8: =VLOOKUP($A8,Namen!$A$2:$D$339,4,FALSE) -> Max | D8: =IF(VLOOKUP($A8,Namen!$A$2:$D$339,2,FALSE)="Frau","w","m") -> m | E8: =VLOOKUP($A8,Ergebnisse!$A$2:$C$285,3,FALSE) -> 35 | F8: =VLOOKUP(E8,J$41:L$45,3,TRUE) -> 5 | G8: =VLOOKUP($A8,Ergebnisse!$A$2:$C$285,2,FALSE) -> 56 | H8: =VLOOKUP(G8,$J$41:$L$45,3,TRUE) -> 4 | J8: Kenngröße | K8: Mathematik | L8: BWL
A9: 191139 | B9: =VLOOKUP($A9,Namen!$A$2:$D$339,3,FALSE) -> Antretter | C9: =VLOOKUP($A9,Namen!$A$2:$D$339,4,FALSE) -> Franz | D9: =IF(VLOOKUP($A9,Namen!$A$2:$D$339,2,FALSE)="Frau","w","m") -> m | E9: =VLOOKUP($A9,Ergebnisse!$A$2:$C$285,3,FALSE) -> 60 | F9: =VLOOKUP(E9,J$41:L$45,3,TRUE) -> 4 | G9: =VLOOKUP($A9,Ergebnisse!$A$2:$C$285,2,FALSE) -> 82 | H9: =VLOOKUP(G9,$J$41:$L$45,3,TRUE) -> 2 | J9: Mittelwert gesamt | K9: =AVERAGE(E2:E281) -> 46.628571 | L9: =AVERAGE(G2:G281) -> 71.135714
A10: 418668 | B10: =VLOOKUP($A10,Namen!$A$2:$D$339,3,FALSE) -> Arat | C10: =VLOOKUP($A10,Namen!$A$2:$D$339,4,FALSE) -> Mariam | D10: =IF(VLOOKUP($A10,Namen!$A$2:$D$339,2,FALSE)="Frau","w","m") -> w | E10: =VLOOKUP($A10,Ergebnisse!$A$2:$C$285,3,FALSE) -> 30 | F10: =VLOOKUP(E10,J$41:L$45,3,TRUE) -> 5 | G10: =VLOOKUP($A10,Ergebnisse!$A$2:$C$285,2,FALSE) -> 92 | H10: =VLOOKUP(G10,$J$41:$L$45,3,TRUE) -> 1 | J10: Mittelwert w | K10: =AVERAGEIF($D$2:$D$281,"w",E$2:E$281) -> 45.634146 | L10: =AVERAGEIF($D$2:$D$281,"w",G$2:G$281) -> 70.756098
A11: 420911 | B11: =VLOOKUP($A11,Namen!$A$2:$D$339,3,FALSE) -> Arduc | C11: =VLOOKUP($A11,Namen!$A$2:$D$339,4,FALSE) -> Carolin | D11: =IF(VLOOKUP($A11,Namen!$A$2:$D$339,2,FALSE)="Frau","w","m") -> w | E11: =VLOOKUP($A11,Ergebnisse!$A$2:$C$285,3,FALSE) -> 37 | F11: =VLOOKUP(E11,J$41:L$45,3,TRUE) -> 5 | G11: =VLOOKUP($A11,Ergebnisse!$A$2:$C$285,2,FALSE) -> 56 | H11: =VLOOKUP(G11,$J$41:$L$45,3,TRUE) -> 4 | J11: Mittelwert m | K11: =AVERAGEIF($D$2:$D$281,"m",E$2:E$281) -> 47.407643 | L11: =AVERAGEIF($D$2:$D$281,"m",G$2:G$281) -> 71.433121
A12: 883115 | B12: =VLOOKUP($A12,Namen!$A$2:$D$339,3,FALSE) -> Astl | C12: =VLOOKUP($A12,Namen!$A$2:$D$339,4,FALSE) -> Petra | D12: =IF(VLOOKUP($A12,Namen!$A$2:$D$339,2,FALSE)="Frau","w","m") -> w | E12: =VLOOKUP($A12,Ergebnisse!$A$2:$C$285,3,FALSE) -> 40 | F12: =VLOOKUP(E12,J$41:L$45,3,TRUE) -> 5 | G12: =VLOOKUP($A12,Ergebnisse!$A$2:$C$285,2,FALSE) -> 56 | H12: =VLOOKUP(G12,$J$41:$L$45,3,TRUE) -> 4 | J12: Median gesamt | K12: =MEDIAN(E2:E281) -> 47 | L12: =MEDIAN(G2:G281) -> 73
A13: 879992 | B13: =VLOOKUP($A13,Namen!$A$2:$D$339,3,FALSE) -> Astner | C13: =VLOOKUP($A13,Namen!$A$2:$D$339,4,FALSE) -> Peter | D13: =IF(VLOOKUP($A13,Namen!$A$2:$D$339,2,FALSE)="Frau","w","m") -> m | E13: =VLOOKUP($A13,Ergebnisse!$A$2:$C$285,3,FALSE) -> 47 | F13: =VLOOKUP(E13,J$41:L$45,3,TRUE) -> 5 | G13: =VLOOKUP($A13,Ergebnisse!$A$2:$C$285,2,FALSE) -> 60 | H13: =VLOOKUP(G13,$J$41:$L$45,3,TRUE) -> 4
A14: 523942 | B14: =VLOOKUP($A14,Namen!$A$2:$D$339,3,FALSE) -> Attlfellner | C14: =VLOOKUP($A14,Namen!$A$2:$D$339,4,FALSE) -> Paul | D14: =IF(VLOOKUP($A14,Namen!$A$2:$D$339,2,FALSE)="Frau","w","m") -> m | E14: =VLOOKUP($A14,Ergebnisse!$A$2:$C$285,3,FALSE) -> 40 | F14: =VLOOKUP(E14,J$41:L$45,3,TRUE) -> 5 | G14: =VLOOKUP($A14,Ergebnisse!$A$2:$C$285,2,FALSE) -> 93 | H14: =VLOOKUP(G14,$J$41:$L$45,3,TRUE) -> 1 | J14: (iv)
A15: 436455 | B15: =VLOOKUP($A15,Namen!$A$2:$D$339,3,FALSE) -> Avdyli | C15: =VLOOKUP($A15,Namen!$A$2:$D$339,4,FALSE) -> Isabell | D15: =IF(VLOOKUP($A15,Namen!$A$2:$D$339,2,FALSE)="Frau","w","m") -> w | E15: =VLOOKUP($A15,Ergebnisse!$A$2:$C$285,3,FALSE) -> 22 | F15: =VLOOKUP(E15,J$41:L$45,3,TRUE) -> 5 | G15: =VLOOKUP($A15,Ergebnisse!$A$2:$C$285,2,FALSE) -> 44 | H15: =VLOOKUP(G15,$J$41:$L$45,3,TRUE) -> 5
A16: 914066 | B16: =VLOOKUP($A16,Namen!$A$2:$D$339,3,FALSE) -> Ayaganov | C16: =VLOOKUP($A16,Namen!$A$2:$D$339,4,FALSE) -> Claudia | D16: =IF(VLOOKUP($A16,Namen!$A$2:$D$339,2,FALSE)="Frau","w","m") -> w | E16: =VLOOKUP($A16,Ergebnisse!$A$2:$C$285,3,FALSE) -> 23 | F16: =VLOOKUP(E16,J$41:L$45,3,TRUE) -> 5 | G16: =VLOOKUP($A16,Ergebnisse!$A$2:$C$285,2,FALSE) -> 51 | H16: =VLOOKUP(G16,$J$41:$L$45,3,TRUE) -> 4
A17: 509210 | B17: =VLOOKUP($A17,Namen!$A$2:$D$339,3,FALSE) -> Bischges | C17: =VLOOKUP($A17,Namen!$A$2:$D$339,4,FALSE) -> Daniela | D17: =IF(VLOOKUP($A17,Namen!$A$2:$D$339,2,FALSE)="Frau","w","m") -> w | E17: =VLOOKUP($A17,Ergebnisse!$A$2:$C$285,3,FALSE) -> 31 | F17: =VLOOKUP(E17,J$41:L$45,3,TRUE) -> 5 | G17: =VLOOKUP($A17,Ergebnisse!$A$2:$C$285,2,FALSE) -> 47 | H17: =VLOOKUP(G17,$J$41:$L$45,3,TRUE) -> 5
A18: 871326 | B18: =VLOOKUP($A18,Namen!$A$2:$D$339,3,FALSE) -> Bacher | C18: =VLOOKUP($A18,Namen!$A$2:$D$339,4,FALSE) -> Alketta | D18: =IF(VLOOKUP($A18,Namen!$A$2:$D$339,2,FALSE)="Frau","w","m") -> w | E18: =VLOOKUP($A18,Ergebnisse!$A$2:$C$285,3,FALSE) -> 79 | F18: =VLOOKUP(E18,J$41:L$45,3,TRUE) -> 2 | G18: =VLOOKUP($A18,Ergebnisse!$A$2:$C$285,2,FALSE) -> 92 | H18: =VLOOKUP(G18,$J$41:$L$45,3,TRUE) -> 1
A19: 211221 | B19: =VLOOKUP($A19,Namen!$A$2:$D$339,3,FALSE) -> Baer | C19: =VLOOKUP($A19,Namen!$A$2:$D$339,4,FALSE) -> Dominique | D19: =IF(VLOOKUP($A19,Namen!$A$2:$D$339,2,FALSE)="Frau","w","m") -> w | E19: =VLOOKUP($A19,Ergebnisse!$A$2:$C$285,3,FALSE) -> 40 | F19: =VLOOKUP(E19,J$41:L$45,3,TRUE) -> 5 | G19: =VLOOKUP($A19,Ergebnisse!$A$2:$C$285,2,FALSE) -> 70 | H19: =VLOOKUP(G19,$J$41:$L$45,3,TRUE) -> 3
A20: 694185 | B20: =VLOOKUP($A20,Namen!$A$2:$D$339,3,FALSE) -> Baier | C20: =VLOOKUP($A20,Namen!$A$2:$D$339,4,FALSE) -> Lisa | D20: =IF(VLOOKUP($A20,Namen!$A$2:$D$339,2,FALSE)="Frau","w","m") -> w | E20: =VLOOKUP($A20,Ergebnisse!$A$2:$C$285,3,FALSE) -> 62 | F20: =VLOOKUP(E20,J$41:L$45,3,TRUE) -> 3 | G20: =VLOOKUP($A20,Ergebnisse!$A$2:$C$285,2,FALSE) -> 84 | H20: =VLOOKUP(G20,$J$41:$L$45,3,TRUE) -> 2
A21: 254860 | B21: =VLOOKUP($A21,Namen!$A$2:$D$339,3,FALSE) -> Basiz | C21: =VLOOKUP($A21,Namen!$A$2:$D$339,4,FALSE) -> Domenic | D21: =IF(VLOOKUP($A21,Namen!$A$2:$D$339,2,FALSE)="Frau","w","m") -> m | E21: =VLOOKUP($A21,Ergebnisse!$A$2:$C$285,3,FALSE) -> 33 | F21: =VLOOKUP(E21,J$41:L$45,3,TRUE) -> 5 | G21: =VLOOKUP($A21,Ergebnisse!$A$2:$C$285,2,FALSE) -> 98 | H21: =VLOOKUP(G21,$J$41:$L$45,3,TRUE) -> 1
A22: 864179 | B22: =VLOOKUP($A22,Namen!$A$2:$D$339,3,FALSE) -> Beck | C22: =VLOOKUP($A22,Namen!$A$2:$D$339,4,FALSE) -> Alex | D22: =IF(VLOOKUP($A22,Namen!$A$2:$D$339,2,FALSE)="Frau","w","m") -> m | E22: =VLOOKUP($A22,Ergebnisse!$A$2:$C$285,3,FALSE) -> 24 | F22: =VLOOKUP(E22,J$41:L$45,3,TRUE) -> 5 | G22: =VLOOKUP($A22,Ergebnisse!$A$2:$C$285,2,FALSE) -> 39 | H22: =VLOOKUP(G22,$J$41:$L$45,3,TRUE) -> 5
A23: 310991 | B23: =VLOOKUP($A23,Namen!$A$2:$D$339,3,FALSE) -> Becker | C23: =VLOOKUP($A23,Namen!$A$2:$D$339,4,FALSE) -> Paul | D23: =IF(VLOOKUP($A23,Namen!$A$2:$D$339,2,FALSE)="Frau","w","m") -> m | E23: =VLOOKUP($A23,Ergebnisse!$A$2:$C$285,3,FALSE) -> 41 | F23: =VLOOKUP(E23,J$41:L$45,3,TRUE) -> 5 | G23: =VLOOKUP($A23,Ergebnisse!$A$2:$C$285,2,FALSE) -> 67 | H23: =VLOOKUP(G23,$J$41:$L$45,3,TRUE) -> 3
A24: 929429 | B24: =VLOOKUP($A24,Namen!$A$2:$D$339,3,FALSE) -> Behmller | C24: =VLOOKUP($A24,Namen!$A$2:$D$339,4,FALSE) -> Valentin | D24: =IF(VLOOKUP($A24,Namen!$A$2:$D$339,2,FALSE)="Frau","w","m") -> m | E24: =VLOOKUP($A24,Ergebnisse!$A$2:$C$285,3,FALSE) -> 4 | F24: =VLOOKUP(E24,J$41:L$45,3,TRUE) -> 5 | G24: =VLOOKUP($A24,Ergebnisse!$A$2:$C$285,2,FALSE) -> 34 | H24: =VLOOKUP(G24,$J$41:$L$45,3,TRUE) -> 5
A25: 995297 | B25: =VLOOKUP($A25,Namen!$A$2:$D$339,3,FALSE) -> Behrendt | C25: =VLOOKUP($A25,Namen!$A$2:$D$339,4,FALSE) -> Dijana | D25: =IF(VLOOKUP($A25,Namen!$A$2:$D$339,2,FALSE)="Frau","w","m") -> w | E25: =VLOOKUP($A25,Ergebnisse!$A$2:$C$285,3,FALSE) -> 56 | F25: =VLOOKUP(E25,J$41:L$45,3,TRUE) -> 4 | G25: =VLOOKUP($A25,Ergebnisse!$A$2:$C$285,2,FALSE) -> 71 | H25: =VLOOKUP(G25,$J$41:$L$45,3,TRUE) -> 3
A26: 703066 | B26: =VLOOKUP($A26,Namen!$A$2:$D$339,3,FALSE) -> Bender | C26: =VLOOKUP($A26,Namen!$A$2:$D$339,4,FALSE) -> Marie | D26: =IF(VLOOKUP($A26,Namen!$A$2:$D$339,2,FALSE)="Frau","w","m") -> w | E26: =VLOOKUP($A26,Ergebnisse!$A$2:$C$285,3,FALSE) -> 38 | F26: =VLOOKUP(E26,J$41:L$45,3,TRUE) -> 5 | G26: =VLOOKUP($A26,Ergebnisse!$A$2:$C$285,2,FALSE) -> 54 | H26: =VLOOKUP(G26,$J$41:$L$45,3,TRUE) -> 4
... A35: 308326 | B35: =VLOOKUP($A35,Namen!$A$2:$D$339,3,FALSE) -> Bischof | C35: =VLOOKUP($A35,Namen!$A$2:$D$339,4,FALSE) -> Otto | D35: =IF(VLOOKUP($A35,Namen!$A$2:$D$339,2,FALSE)="Frau","w","m") -> m | E35: =VLOOKUP($A35,Ergebnisse!$A$2:$C$285,3,FALSE) -> 56 | F35: =VLOOKUP(E35,J$41:L$45,3,TRUE) -> 4 | G35: =VLOOKUP($A35,Ergebnisse!$A$2:$C$285,2,FALSE) -> 85 | H35: =VLOOKUP(G35,$J$41:$L$45,3,TRUE) -> 2
A36: 884106 | B36: =VLOOKUP($A36,Namen!$A$2:$D$339,3,FALSE) -> Blobner | C36: =VLOOKUP($A36,Namen!$A$2:$D$339,4,FALSE) -> Merve | D36: =IF(VLOOKUP($A36,Namen!$A$2:$D$339,2,FALSE)="Frau","w","m") -> w | E36: =VLOOKUP($A36,Ergebnisse!$A$2:$C$285,3,FALSE) -> 95 | F36: =VLOOKUP(E36,J$41:L$45,3,TRUE) -> 1 | G36: =VLOOKUP($A36,Ergebnisse!$A$2:$C$285,2,FALSE) -> 99 | H36: =VLOOKUP(G36,$J$41:$L$45,3,TRUE) -> 1 | J36: Korrelationskoeff: | L36: =CORREL(E2:E281,G2:G281) -> 0.71427306
A37: 997890 | B37: =VLOOKUP($A37,Namen!$A$2:$D$339,3,FALSE) -> Boehm | C37: =VLOOKUP($A37,Namen!$A$2:$D$339,4,FALSE) -> Otto | D37: =IF(VLOOKUP($A37,Namen!$A$2:$D$339,2,FALSE)="Frau","w","m") -> m | E37: =VLOOKUP($A37,Ergebnisse!$A$2:$C$285,3,FALSE) -> 50 | F37: =VLOOKUP(E37,J$41:L$45,3,TRUE) -> 4 | G37: =VLOOKUP($A37,Ergebnisse!$A$2:$C$285,2,FALSE) -> 74 | H37: =VLOOKUP(G37,$J$41:$L$45,3,TRUE) -> 2
A38: 974759 | B38: =VLOOKUP($A38,Namen!$A$2:$D$339,3,FALSE) -> Bogner | C38: =VLOOKUP($A38,Namen!$A$2:$D$339,4,FALSE) -> Sabrina | D38: =IF(VLOOKUP($A38,Namen!$A$2:$D$339,2,FALSE)="Frau","w","m") -> w | E38: =VLOOKUP($A38,Ergebnisse!$A$2:$C$285,3,FALSE) -> 99 | F38: =VLOOKUP(E38,J$41:L$45,3,TRUE) -> 1 | G38: =VLOOKUP($A38,Ergebnisse!$A$2:$C$285,2,FALSE) -> 100 | H38: =VLOOKUP(G38,$J$41:$L$45,3,TRUE) -> 1
A39: 983025 | B39: =VLOOKUP($A39,Namen!$A$2:$D$339,3,FALSE) -> Boller | C39: =VLOOKUP($A39,Namen!$A$2:$D$339,4,FALSE) -> Thomas | D39: =IF(VLOOKUP($A39,Namen!$A$2:$D$339,2,FALSE)="Frau","w","m") -> m | E39: =VLOOKUP($A39,Ergebnisse!$A$2:$C$285,3,FALSE) -> 78 | F39: =VLOOKUP(E39,J$41:L$45,3,TRUE) -> 2 | G39: =VLOOKUP($A39,Ergebnisse!$A$2:$C$285,2,FALSE) -> 91 | H39: =VLOOKUP(G39,$J$41:$L$45,3,TRUE) -> 1 | J39: (v) Punkte-Noten-Schema (Verweise siehe Spalte F und H)
A40: 630097 | B40: =VLOOKUP($A40,Namen!$A$2:$D$339,3,FALSE) -> Bozic | C40: =VLOOKUP($A40,Namen!$A$2:$D$339,4,FALSE) -> Katharina | D40: =IF(VLOOKUP($A40,Namen!$A$2:$D$339,2,FALSE)="Frau","w","m") -> w | E40: =VLOOKUP($A40,Ergebnisse!$A$2:$C$285,3,FALSE) -> 51 | F40: =VLOOKUP(E40,J$41:L$45,3,TRUE) -> 4 | G40: =VLOOKUP($A40,Ergebnisse!$A$2:$C$285,2,FALSE) -> 75 | H40: =VLOOKUP(G40,$J$41:$L$45,3,TRUE) -> 2 | J40: von | K40: bis | L40: Note
A41: 866925 | B41: =VLOOKUP($A41,Namen!$A$2:$D$339,3,FALSE) -> Brandstetter | C41: =VLOOKUP($A41,Namen!$A$2:$D$339,4,FALSE) -> Ludwig | D41: =IF(VLOOKUP($A41,Namen!$A$2:$D$339,2,FALSE)="Frau","w","m") -> m | E41: =VLOOKUP($A41,Ergebnisse!$A$2:$C$285,3,FALSE) -> 52 | F41: =VLOOKUP(E41,J$41:L$45,3,TRUE) -> 4 | G41: =VLOOKUP($A41,Ergebnisse!$A$2:$C$285,2,FALSE) -> 79 | H41: =VLOOKUP(G41,$J$41:$L$45,3,TRUE) -> 2 | J41: 0 | K41: 49 | L41: 5
A42: 597314 | B42: =VLOOKUP($A42,Namen!$A$2:$D$339,3,FALSE) -> Breitner | C42: =VLOOKUP($A42,Namen!$A$2:$D$339,4,FALSE) -> Tamara | D42: =IF(VLOOKUP($A42,Namen!$A$2:$D$339,2,FALSE)="Frau","w","m") -> w | E42: =VLOOKUP($A42,Ergebnisse!$A$2:$C$285,3,FALSE) -> 59 | F42: =VLOOKUP(E42,J$41:L$45,3,TRUE) -> 4 | G42: =VLOOKUP($A42,Ergebnisse!$A$2:$C$285,2,FALSE) -> 74 | H42: =VLOOKUP(G42,$J$41:$L$45,3,TRUE) -> 2 | J42: 50 | K42: 61 | L42: 4
A43: 294288 | B43: =VLOOKUP($A43,Namen!$A$2:$D$339,3,FALSE) -> Brunnbauer | C43: =VLOOKUP($A43,Namen!$A$2:$D$339,4,FALSE) -> Quirin | D43: =IF(VLOOKUP($A43,Namen!$A$2:$D$339,2,FALSE)="Frau","w","m") -> m | E43: =VLOOKUP($A43,Ergebnisse!$A$2:$C$285,3,FALSE) -> 46 | F43: =VLOOKUP(E43,J$41:L$45,3,TRUE) -> 5 | G43: =VLOOKUP($A43,Ergebnisse!$A$2:$C$285,2,FALSE) -> 82 | H43: =VLOOKUP(G43,$J$41:$L$45,3,TRUE) -> 2 | J43: 62 | K43: 73 | L43: 3
A44: 666887 | B44: =VLOOKUP($A44,Namen!$A$2:$D$339,3,FALSE) -> Bubitsch | C44: =VLOOKUP($A44,Namen!$A$2:$D$339,4,FALSE) -> John | D44: =IF(VLOOKUP($A44,Namen!$A$2:$D$339,2,FALSE)="Frau","w","m") -> m | E44: =VLOOKUP($A44,Ergebnisse!$A$2:$C$285,3,FALSE) -> 58 | F44: =VLOOKUP(E44,J$41:L$45,3,TRUE) -> 4 | G44: =VLOOKUP($A44,Ergebnisse!$A$2:$C$285,2,FALSE) -> 73 | H44: =VLOOKUP(G44,$J$41:$L$45,3,TRUE) -> 3 | J44: 74 | K44: 85 | L44: 2
A45: 817037 | B45: =VLOOKUP($A45,Namen!$A$2:$D$339,3,FALSE) -> Buliersch | C45: =VLOOKUP($A45,Namen!$A$2:$D$339,4,FALSE) -> Lisa | D45: =IF(VLOOKUP($A45,Namen!$A$2:$D$339,2,FALSE)="Frau","w","m") -> w | E45: =VLOOKUP($A45,Ergebnisse!$A$2:$C$285,3,FALSE) -> 42 | F45: =VLOOKUP(E45,J$41:L$45,3,TRUE) -> 5 | G45: =VLOOKUP($A45,Ergebnisse!$A$2:$C$285,2,FALSE) -> 71 | H45: =VLOOKUP(G45,$J$41:$L$45,3,TRUE) -> 3 | J45: 86 | K45: 100 | L45: 1
A46: 597006 | B46: =VLOOKUP($A46,Namen!$A$2:$D$339,3,FALSE) -> Can | C46: =VLOOKUP($A46,Namen!$A$2:$D$339,4,FALSE) -> Michael | D46: =IF(VLOOKUP($A46,Namen!$A$2:$D$339,2,FALSE)="Frau","w","m") -> m | E46: =VLOOKUP($A46,Ergebnisse!$A$2:$C$285,3,FALSE) -> 46 | F46: =VLOOKUP(E46,J$41:L$45,3,TRUE) -> 5 | G46: =VLOOKUP($A46,Ergebnisse!$A$2:$C$285,2,FALSE) -> 75 | H46: =VLOOKUP(G46,$J$41:$L$45,3,TRUE) -> 2
A47: 709355 | B47: =VLOOKUP($A47,Namen!$A$2:$D$339,3,FALSE) -> Cultrona | C47: =VLOOKUP($A47,Namen!$A$2:$D$339,4,FALSE) -> Nicole | D47: =IF(VLOOKUP($A47,Namen!$A$2:$D$339,2,FALSE)="Frau","w","m") -> w | E47: =VLOOKUP($A47,Ergebnisse!$A$2:$C$285,3,FALSE) -> 28 | F47: =VLOOKUP(E47,J$41:L$45,3,TRUE) -> 5 | G47: =VLOOKUP($A47,Ergebnisse!$A$2:$C$285,2,FALSE) -> 57 | H47: =VLOOKUP(G47,$J$41:$L$45,3,TRUE) -> 4
A48: 162673 | B48: =VLOOKUP($A48,Namen!$A$2:$D$339,3,FALSE) -> Dalmann | C48: =VLOOKUP($A48,Namen!$A$2:$D$339,4,FALSE) -> Amadeus | D48: =IF(VLOOKUP($A48,Namen!$A$2:$D$339,2,FALSE)="Frau","w","m") -> m | E48: =VLOOKUP($A48,Ergebnisse!$A$2:$C$285,3,FALSE) -> 50 | F48: =VLOOKUP(E48,J$41:L$45,3,TRUE) -> 4 | G48: =VLOOKUP($A48,Ergebnisse!$A$2:$C$285,2,FALSE) -> 78 | H48: =VLOOKUP(G48,$J$41:$L$45,3,TRUE) -> 2 | J48: (vI)
...
